BEGIN:VCALENDAR
VERSION:2.0
PRODID:-//eventon.com NONSGML v1.0//EN
CALSCALE:GREGORIAN
METHOD:PUBLISH
BEGIN:VEVENT
UID:69ea31e91baaf
DTSTAMP:20260423T145121Z
DTSTART:20250707T150000Z
DTEND:20250707T215900Z
LOCATION:Rotkreuz-Bezirksstelle Perg\,  Fadingerstraße 13\,  4320 Perg
SUMMARY:Lebenscafé für Trauernde
DESCRIPTION:\nhttps://www.perg.at/events/lebenscafe-fuer-trauernde/var/ri-6
 .l-L1
URL:https://www.perg.at/events/lebenscafe-fuer-trauernde/var/ri-6.l-L1
END:VEVENT
END:VCALENDAR