BEGIN:VCALENDAR
VERSION:2.0
PRODID:-//eventon.com NONSGML v1.0//EN
CALSCALE:GREGORIAN
METHOD:PUBLISH
BEGIN:VEVENT
UID:69e4d49e769c7
DTSTAMP:20260419T131158Z
DTSTART:20260618T170000Z
DTEND:20260618T215900Z
LOCATION:Mühlsteinmuseum Steinbrecherhaus Mühlsteinstraße 43
SUMMARY:Volksmusik im Steinbrecherhaus
DESCRIPTION:Volksmusik im Steinbrecherhaus\nhttps://www.perg.at/events/volk
 smusik-im-steinbrecherhaus/
URL:https://www.perg.at/events/volksmusik-im-steinbrecherhaus/
END:VEVENT
END:VCALENDAR