BEGIN:VCALENDAR
VERSION:2.0
PRODID:-//eventon.com NONSGML v1.0//EN
CALSCALE:GREGORIAN
METHOD:PUBLISH
BEGIN:VEVENT
UID:69e74c491b4bb
DTSTAMP:20260421T100705Z
DTSTART:20260714T090000Z
DTEND:20260714T215900Z
LOCATION:Siedlerverein Perg Heustraße 10\,  4320 Perg
SUMMARY:Sommerfest PV Perg
DESCRIPTION:Sommerfest PV Perg\nhttps://www.perg.at/events/sommerfest-pv-pe
 rg/
URL:https://www.perg.at/events/sommerfest-pv-perg/
END:VEVENT
END:VCALENDAR