BEGIN:VCALENDAR
VERSION:2.0
PRODID:-//eventon.com NONSGML v1.0//EN
CALSCALE:GREGORIAN
METHOD:PUBLISH
BEGIN:VEVENT
UID:69e77abda4889
DTSTAMP:20260421T132517Z
DTSTART:20260906T070000Z
DTEND:20260906T215900Z
LOCATION:Pfarrkirche Perg
SUMMARY:Erntedankfest
DESCRIPTION:Erntedankfest\nhttps://www.perg.at/events/erntedankfest/
URL:https://www.perg.at/events/erntedankfest/
END:VEVENT
END:VCALENDAR