BEGIN:VCALENDAR
VERSION:2.0
PRODID:-//eventon.com NONSGML v1.0//EN
CALSCALE:GREGORIAN
METHOD:PUBLISH
BEGIN:VEVENT
UID:69e7950c0fde2
DTSTAMP:20260421T151732Z
DTSTART:20261011
DTEND:20261012
LOCATION:Pfarrkirche Perg
SUMMARY:Jubelhochzeiten
DESCRIPTION:Jubelhochzeiten\nhttps://www.perg.at/events/jubelhochzeiten/
URL:https://www.perg.at/events/jubelhochzeiten/
END:VEVENT
END:VCALENDAR