BEGIN:VCALENDAR
VERSION:2.0
PRODID:-//eventon.com NONSGML v1.0//EN
CALSCALE:GREGORIAN
METHOD:PUBLISH
BEGIN:VEVENT
UID:69e7b0da2d14b
DTSTAMP:20260421T171610Z
DTSTART:20260913
DTEND:20260914
LOCATION:
SUMMARY:Pfarrgründungsfest Gottesdienst mit Frühschoppen
DESCRIPTION:Pfarrgründungsfest Gottesdienst mit Frühschoppen\nhttps://www
 .perg.at/events/pfarrgruendungsfest-gottesdienst-mit-fruehschoppen/
URL:https://www.perg.at/events/pfarrgruendungsfest-gottesdienst-mit-fruehschoppen/
END:VEVENT
END:VCALENDAR