BEGIN:VCALENDAR
VERSION:2.0
PRODID:-//eventon.com NONSGML v1.0//EN
CALSCALE:GREGORIAN
METHOD:PUBLISH
BEGIN:VEVENT
UID:69e789be20ab6
DTSTAMP:20260421T142918Z
DTSTART:20261204
DTEND:20261205
LOCATION:vor der Pfarrkirche Perg
SUMMARY:Musikalischer Christkindlmarkt Perg
DESCRIPTION:Musikalischer Christkindlmarkt Perg\nhttps://www.perg.at/events
 /musikalischer-christkindlmarkt-perg/
URL:https://www.perg.at/events/musikalischer-christkindlmarkt-perg/
END:VEVENT
END:VCALENDAR