BEGIN:VCALENDAR
VERSION:2.0
PRODID:-//eventon.com NONSGML v1.0//EN
CALSCALE:GREGORIAN
METHOD:PUBLISH
BEGIN:VEVENT
UID:69e754b89645b
DTSTAMP:20260421T104304Z
DTSTART:20261120T160000Z
DTEND:20261120T200000Z
LOCATION:im Stadtzentrum Hauptplatz\,  4320 Perg
SUMMARY:Einkaufsnacht: Die Nacht der Sinne
DESCRIPTION:Am Freitag\,  dem 20. November\,  organisieren der „Verein PE
 RG Wirtschaft bewegt“ und das Stadtmarketing Perg gemeinsam mit Betrieben
  aus der Innenstadt die „Nacht der Sinne“. Die persönliche Beziehung z
 u ihren Kunden hebt eigentümergeführte Betriebe von anderen Formen des Ha
 ndels und der Dienstleistung ab. In der „Nacht der Sinne“ sollen die[..
 ]\nhttps://www.perg.at/events/einkaufsnacht-die-nacht-der-sinne/
URL:https://www.perg.at/events/einkaufsnacht-die-nacht-der-sinne/
END:VEVENT
END:VCALENDAR