BEGIN:VCALENDAR
VERSION:2.0
PRODID:-//eventon.com NONSGML v1.0//EN
CALSCALE:GREGORIAN
METHOD:PUBLISH
BEGIN:VEVENT
UID:69e73e3e02b2c
DTSTAMP:20260421T090710Z
DTSTART:20260724
DTEND:20260725
LOCATION:im Stadtzentrum Hauptplatz\,  4320 Perg
SUMMARY:Sommer-Schnäppchentage
DESCRIPTION:Webinfo: www.stadtmarketing-perg.at/einkaufserlebnis\nhttps://w
 ww.perg.at/events/sommer-schnaeppchentage/
URL:https://www.perg.at/events/sommer-schnaeppchentage/
END:VEVENT
END:VCALENDAR